BEGIN:VCALENDAR
VERSION:2.0
PRODID:stackoverflow.com
CALSCALE:GREGORIAN
METHOD:PUBLISH
BEGIN:VTIMEZONE
TZID:America/Chicago
BEGIN:STANDARD
TZOFFSETTO:-0600
TZOFFSETFROM:-0600
END:STANDARD
END:VTIMEZONE
BEGIN:VEVENT
DTSTART;TZID=America/Chicago:20260425T080000
DTEND;TZID=America/Chicago:20260425T130000
SUMMARY:Green City Market @ Lincoln Park
LOCATION:1817 N Clark St, Chicago, IL, 60614
DESCRIPTION:
PRIORITY:3
END:VEVENT
END:VCALENDAR
