BEGIN:VCALENDAR
VERSION:2.0
PRODID:stackoverflow.com
CALSCALE:GREGORIAN
METHOD:PUBLISH
BEGIN:VTIMEZONE
TZID:America/Chicago
BEGIN:STANDARD
TZOFFSETTO:-0600
TZOFFSETFROM:-0600
END:STANDARD
END:VTIMEZONE
BEGIN:VEVENT
DTSTART;TZID=America/Chicago:20220908T173000
DTEND;TZID=America/Chicago:20220908
SUMMARY:Chef BBQ 2022
LOCATION:1817 N Clark St, Chicago, 60614
DESCRIPTION:<h2>Chef bbq is back</h2>
<p><i data-stringify-type="italic">Chicago's premier local food festival, Chef BBQ is back for its twenty-first year, celebrating the best of the Midwest.&nbsp;</i></p>
<p><span class="c-mrkdwn__br" data-stringify-type="paragraph-break"></span><i data-stringify-type="italic">In a food festival unlike any other, Chicago&rsquo;s top restaurants, brewers, winemakers, and mixologists provide tasting portions of</i> locally-inspired<i data-stringify-type="italic"> dishes and craft beverages highlighting ingredients from Green City Market&rsquo;s local, sustainable farmers. Tickets include all food and beverage available at the event; no need to purchase additional tickets once inside.</i></p>
<p><span class="c-mrkdwn__br" data-stringify-type="paragraph-break"></span><i data-stringify-type="italic">What's even more delicious? Your attendance benefits Green City Market&rsquo;s 501(c)(3) nonprofit mission to secure the future of food by deepening support for sustainable farmers, educating our community about where food comes from and why it matters, and expanding access to locally-grown food.</i></p>
<p><span class="c-mrkdwn__br" data-stringify-type="paragraph-break"></span><i data-stringify-type="italic"><a class="c-link" href="https://greencitymarket.us14.list-manage.com/subscribe/post?u=451c36af6175747e4f02e9f2f&amp;id=effd6b4c81" target="_blank" data-stringify-link="https://greencitymarket.us14.list-manage.com/subscribe/post?u=451c36af6175747e4f02e9f2f&amp;id=effd6b4c81" data-sk="tooltip_parent" data-remove-tab-index="true" rel="noopener">Subscribe now</a></i><i data-stringify-type="italic"><span class="nanospell-typo">&nbsp;</span>to be the first to know when tickets go live for Chef BBQ 2022.</i></p>
<p><span class="nanospell-typo"><a class="btn btn-outline" href="https://greencitymarket.us14.list-manage.com/subscribe/post?u=451c36af6175747e4f02e9f2f&amp;id=effd6b4c81">Get Updates</a></span></p>
PRIORITY:3
END:VEVENT
END:VCALENDAR
